BEGIN:VCALENDAR
VERSION:2.0
PRODID:-//Ministry of Education - ECPv6.15.20//NONSGML v1.0//EN
CALSCALE:GREGORIAN
METHOD:PUBLISH
X-WR-CALNAME:Ministry of Education
X-ORIGINAL-URL:https://moe.gov.tt
X-WR-CALDESC:Events for Ministry of Education
REFRESH-INTERVAL;VALUE=DURATION:PT1H
X-Robots-Tag:noindex
X-PUBLISHED-TTL:PT1H
BEGIN:VTIMEZONE
TZID:America/Halifax
BEGIN:DAYLIGHT
TZOFFSETFROM:-0400
TZOFFSETTO:-0300
TZNAME:ADT
DTSTART:20220313T060000
END:DAYLIGHT
BEGIN:STANDARD
TZOFFSETFROM:-0300
TZOFFSETTO:-0400
TZNAME:AST
DTSTART:20221106T050000
END:STANDARD
BEGIN:DAYLIGHT
TZOFFSETFROM:-0400
TZOFFSETTO:-0300
TZNAME:ADT
DTSTART:20230312T060000
END:DAYLIGHT
BEGIN:STANDARD
TZOFFSETFROM:-0300
TZOFFSETTO:-0400
TZNAME:AST
DTSTART:20231105T050000
END:STANDARD
BEGIN:DAYLIGHT
TZOFFSETFROM:-0400
TZOFFSETTO:-0300
TZNAME:ADT
DTSTART:20240310T060000
END:DAYLIGHT
BEGIN:STANDARD
TZOFFSETFROM:-0300
TZOFFSETTO:-0400
TZNAME:AST
DTSTART:20241103T050000
END:STANDARD
END:VTIMEZONE
BEGIN:VEVENT
DTSTART;VALUE=DATE:20230103
DTEND;VALUE=DATE:20230104
DTSTAMP:20260421T171246
CREATED:20230103T040000Z
LAST-MODIFIED:20230103T040000Z
UID:5245-1672704000-1672790399@moe.gov.tt
SUMMARY:Academic School Year 202/2023  Term 2 (Start)
DESCRIPTION:Term II – 3rd January 2023-  31st March\, 2023 (13 weeks)  \nThese dates are tentative and are subject to change
URL:https://moe.gov.tt/event/academic-school-year-202-2023-term-2-start/
END:VEVENT
BEGIN:VEVENT
DTSTART;VALUE=DATE:20230103
DTEND;VALUE=DATE:20230107
DTSTAMP:20260421T171246
CREATED:20230105T161613Z
LAST-MODIFIED:20230105T161613Z
UID:7255-1672704000-1673049599@moe.gov.tt
SUMMARY:Compact to Impact: Reduce Space Occupied by Waste
DESCRIPTION:Recycling is of great benefit to the environment because it reduces energy used\, enhances the quality of water and air\, and combats climate change. It also decreases the need for the use of new raw materials to create new products\, thus conserving natural resources and positively impacting the economy.\nFor more information and competition details visit>> \nhttps://www.moe.gov.tt/compact-to-impact-reduce-space…/
URL:https://moe.gov.tt/event/compact-to-impact-reduce-space-occupied-by-waste/
END:VEVENT
BEGIN:VEVENT
DTSTART;TZID=America/Halifax:20230103T080000
DTEND;TZID=America/Halifax:20230331T170000
DTSTAMP:20260421T171246
CREATED:20230207T025830Z
LAST-MODIFIED:20230315T233200Z
UID:7577-1672732800-1680282000@moe.gov.tt
SUMMARY:Compact to Impact: Reduce Space Occupied by Waste - Competition
DESCRIPTION:Recycling is of great benefit to the environment because it reduces energy used\, enhances the quality of water and air\, and combats climate change. It also decreases the need for the use of new raw materials to create new products\, thus conserving natural resources and positively impacting the economy.\n\n\nFor more information and competition details visit>>\nhttps://www.moe.gov.tt/compact-to-impact-reduce-space…/
URL:https://moe.gov.tt/event/compact-to-impact-reduce-space-occupied-by-waste-competition/
END:VEVENT
BEGIN:VEVENT
DTSTART;TZID=America/Halifax:20230109T080000
DTEND;TZID=America/Halifax:20230119T170000
DTSTAMP:20260421T171246
CREATED:20230105T144449Z
LAST-MODIFIED:20230105T144449Z
UID:7566-1673251200-1674147600@moe.gov.tt
SUMMARY:Preliminaries - National Schools’ Panorama
DESCRIPTION:The Schools Carnival Events carded for the upcoming season February 2023\, is fast approaching. \nSee below the carnival competitions/events and proposed dates for competition\, including details with respect to preliminary or semi-final rounds. https://www.moe.gov.tt/school-carnival-events-2023/
URL:https://moe.gov.tt/event/preliminaries-national-schools-panorama/
END:VEVENT
BEGIN:VEVENT
DTSTART;VALUE=DATE:20230120
DTEND;VALUE=DATE:20230121
DTSTAMP:20260421T171246
CREATED:20230105T144603Z
LAST-MODIFIED:20230105T144603Z
UID:7567-1674172800-1674259199@moe.gov.tt
SUMMARY:Pulling for Positions-National Schools’ Panorama
DESCRIPTION:The Schools Carnival Events carded for the upcoming season February 2023\, is fast approaching. \nSee below the carnival competitions/events and proposed dates for competition\, including details with respect to preliminary or semi-final rounds. https://www.moe.gov.tt/school-carnival-events-2023/
URL:https://moe.gov.tt/event/pulling-for-positions-national-schools-panorama/
END:VEVENT
BEGIN:VEVENT
DTSTART;VALUE=DATE:20230121
DTEND;VALUE=DATE:20230122
DTSTAMP:20260421T171246
CREATED:20230105T144846Z
LAST-MODIFIED:20230105T144846Z
UID:7569-1674259200-1674345599@moe.gov.tt
SUMMARY:Preliminaries-Intellectual Carnival National Schools’ Chutney- Soca Competition
DESCRIPTION:The Schools Carnival Events carded for the upcoming season February 2023\, is fast approaching. \nSee below the carnival competitions/events and proposed dates for competition\, including details with respect to preliminary or semi-final rounds. https://www.moe.gov.tt/school-carnival-events-2023/
URL:https://moe.gov.tt/event/preliminaries-intellectual-carnival-national-schools-chutney-soca-competition/
END:VEVENT
BEGIN:VEVENT
DTSTART;VALUE=DATE:20230122
DTEND;VALUE=DATE:20230123
DTSTAMP:20260421T171246
CREATED:20230105T144704Z
LAST-MODIFIED:20230105T144704Z
UID:7568-1674345600-1674431999@moe.gov.tt
SUMMARY:National Schools’ Panorama-Finals
DESCRIPTION:The Schools Carnival Events carded for the upcoming season February 2023\, is fast approaching. \nSee below the carnival competitions/events and proposed dates for competition\, including details with respect to preliminary or semi-final rounds. https://www.moe.gov.tt/school-carnival-events-2023/
URL:https://moe.gov.tt/event/national-schools-panorama-finals/
END:VEVENT
BEGIN:VEVENT
DTSTART;VALUE=DATE:20230124
DTEND;VALUE=DATE:20230125
DTSTAMP:20260421T171246
CREATED:20230207T030336Z
LAST-MODIFIED:20230207T030336Z
UID:7580-1674518400-1674604799@moe.gov.tt
SUMMARY:International Day of Education
DESCRIPTION:Education is a human right and a public responsibility.\n\n\nThe United Nations General Assembly proclaimed 24 January as International Day of Education\, in celebration of the role of education for peace and development.\n\n\nWithout inclusive and equitable quality education and lifelong opportunities for all\, countries will not succeed in achieving gender equality and breaking the cycle of poverty that is leaving millions of children\, youth and adults behind.
URL:https://moe.gov.tt/event/international-day-of-education/
END:VEVENT
BEGIN:VEVENT
DTSTART;VALUE=DATE:20230130
DTEND;VALUE=DATE:20230131
DTSTAMP:20260421T171246
CREATED:20230207T030159Z
LAST-MODIFIED:20230207T030159Z
UID:7579-1675036800-1675123199@moe.gov.tt
SUMMARY:📷 MOE- Press Conference
DESCRIPTION:Press Conference Hosted by Ministers of Education\, Dr. the Hon. Nyan Gadsby-Dolly and the Hon. Lisa Morris-Julian to discuss matters relating to Ministry of Education – TT\n\n\nFor further details in regards to Re-engaging For Success please visit shorturl.at/hkEWZ
URL:https://moe.gov.tt/event/%f0%9f%93%b7-moe-press-conference/
END:VEVENT
END:VCALENDAR