BEGIN:VCALENDAR
VERSION:2.0
PRODID:-//Ministry of Education - ECPv6.15.20//NONSGML v1.0//EN
CALSCALE:GREGORIAN
METHOD:PUBLISH
X-WR-CALNAME:Ministry of Education
X-ORIGINAL-URL:https://moe.gov.tt
X-WR-CALDESC:Events for Ministry of Education
REFRESH-INTERVAL;VALUE=DURATION:PT1H
X-Robots-Tag:noindex
X-PUBLISHED-TTL:PT1H
BEGIN:VTIMEZONE
TZID:America/Halifax
BEGIN:DAYLIGHT
TZOFFSETFROM:-0400
TZOFFSETTO:-0300
TZNAME:ADT
DTSTART:20220313T060000
END:DAYLIGHT
BEGIN:STANDARD
TZOFFSETFROM:-0300
TZOFFSETTO:-0400
TZNAME:AST
DTSTART:20221106T050000
END:STANDARD
BEGIN:DAYLIGHT
TZOFFSETFROM:-0400
TZOFFSETTO:-0300
TZNAME:ADT
DTSTART:20230312T060000
END:DAYLIGHT
BEGIN:STANDARD
TZOFFSETFROM:-0300
TZOFFSETTO:-0400
TZNAME:AST
DTSTART:20231105T050000
END:STANDARD
BEGIN:DAYLIGHT
TZOFFSETFROM:-0400
TZOFFSETTO:-0300
TZNAME:ADT
DTSTART:20240310T060000
END:DAYLIGHT
BEGIN:STANDARD
TZOFFSETFROM:-0300
TZOFFSETTO:-0400
TZNAME:AST
DTSTART:20241103T050000
END:STANDARD
END:VTIMEZONE
BEGIN:VEVENT
DTSTART;TZID=America/Halifax:20230103T080000
DTEND;TZID=America/Halifax:20230331T170000
DTSTAMP:20260421T152828
CREATED:20230207T025830Z
LAST-MODIFIED:20230315T233200Z
UID:7577-1672732800-1680282000@moe.gov.tt
SUMMARY:Compact to Impact: Reduce Space Occupied by Waste - Competition
DESCRIPTION:Recycling is of great benefit to the environment because it reduces energy used\, enhances the quality of water and air\, and combats climate change. It also decreases the need for the use of new raw materials to create new products\, thus conserving natural resources and positively impacting the economy.\n\n\nFor more information and competition details visit>>\nhttps://www.moe.gov.tt/compact-to-impact-reduce-space…/
URL:https://moe.gov.tt/event/compact-to-impact-reduce-space-occupied-by-waste-competition/
END:VEVENT
BEGIN:VEVENT
DTSTART;VALUE=DATE:20230201
DTEND;VALUE=DATE:20230202
DTSTAMP:20260421T152828
CREATED:20230207T030028Z
LAST-MODIFIED:20230207T030028Z
UID:7578-1675209600-1675295999@moe.gov.tt
SUMMARY:World Read Aloud Day 2023
DESCRIPTION:As a literacy activity\, World Read Aloud Day supports the development of the English Language Arts skills of speaking\, listening\, reading\, writing and representing. Read Alouds promote vocabulary development\, build connections between the spoken and written word and promote reading as a fun and enjoyable activity. Whole-school Read Alouds are encouraged throughout this entire day and are endorsed strongly as a frequently used literacy development strategy.\n\n\nFor More Information visit https://www.moe.gov.tt/world-read-aloud-day-2023/\nFor more stories visit the Ministry of Education- TT Youtube Page – shorturl.at/DESZ0
URL:https://moe.gov.tt/event/world-read-aloud-day-2023/
END:VEVENT
BEGIN:VEVENT
DTSTART;VALUE=DATE:20230203
DTEND;VALUE=DATE:20230405
DTSTAMP:20260421T152828
CREATED:20230207T025627Z
LAST-MODIFIED:20230315T205129Z
UID:7576-1675382400-1680652799@moe.gov.tt
SUMMARY:🪴IEAT: I LEARN\, I GROW\, I EAT 🌱 Competition
DESCRIPTION:Food security means having\, at all times\, both physical and economic access to sufficient food to meet dietary needs for a productive and healthy life. Food security continues to be a global issue and Trinidad and Tobago is not immune to the myriad of challenges associated with becoming a food-secured nation. At the primary school level\, the use of school gardens to promote cross-curricular integration provides students with opportunities to explore food production in a more hands-on way\, making the experience a more meaningful one for all involved.\n\n\nFor more information and competition details visit>> https://www.moe.gov.tt/ieat-i-learn-i-grow-i-eat/
URL:https://moe.gov.tt/event/%f0%9f%aa%b4ieat-i-learn-i-grow-i-eat-%f0%9f%8c%b1-competition/
END:VEVENT
BEGIN:VEVENT
DTSTART;VALUE=DATE:20230206
DTEND;VALUE=DATE:20230325
DTSTAMP:20260421T152828
CREATED:20230207T025217Z
LAST-MODIFIED:20230207T025217Z
UID:7575-1675641600-1679702399@moe.gov.tt
SUMMARY:Admission of Infant Year 1 – September 2023
DESCRIPTION:REGISTRATION IS OPEN\n\n\nApplication for Admission of Infant Year 1 – September 2023\n\n\nApplication forms for admission to Infant Year 1 at Public Primary Schools are available at the school and at the respective Education District Offices during normal working hours from Monday February 6\, 2023.\n\n\nForms are also available for download from the Ministry’s website.\n\n\nFor more information visit:\nhttps://www.moe.gov.tt/admission-of-infant-year-1-2023/
URL:https://moe.gov.tt/event/admission-of-infant-year-1-september-2023/
END:VEVENT
BEGIN:VEVENT
DTSTART;VALUE=DATE:20230208
DTEND;VALUE=DATE:20230209
DTSTAMP:20260421T152828
CREATED:20230105T145246Z
LAST-MODIFIED:20230105T145246Z
UID:7570-1675814400-1675900799@moe.gov.tt
SUMMARY:Finals - Schools’ Carnival Tassarama Competition
DESCRIPTION:The Schools Carnival Events carded for the upcoming season February 2023\, is fast approaching. \nSee below the carnival competitions/events and proposed dates for competition\, including details with respect to preliminary or semi-final rounds. https://www.moe.gov.tt/school-carnival-events-2023/
URL:https://moe.gov.tt/event/finals-schools-carnival-tassarama-competition/
END:VEVENT
BEGIN:VEVENT
DTSTART;VALUE=DATE:20230213
DTEND;VALUE=DATE:20230214
DTSTAMP:20260421T152828
CREATED:20230105T160828Z
LAST-MODIFIED:20230105T160828Z
UID:7571-1676246400-1676332799@moe.gov.tt
SUMMARY:Finals -Junior Calypso Monarch
DESCRIPTION:The Schools Carnival Events carded for the upcoming season February 2023\, is fast approaching. \nSee below the carnival competitions/events and proposed dates for competition\, including details with respect to preliminary or semi-final rounds. https://www.moe.gov.tt/school-carnival-events-2023/ \n 
URL:https://moe.gov.tt/event/finals-junior-calypso-monarch/
END:VEVENT
BEGIN:VEVENT
DTSTART;VALUE=DATE:20230214
DTEND;VALUE=DATE:20230215
DTSTAMP:20260421T152828
CREATED:20230105T161124Z
LAST-MODIFIED:20230105T161124Z
UID:7249-1676332800-1676419199@moe.gov.tt
SUMMARY:Finals -  Junior Soca Competition
DESCRIPTION:The Schools Carnival Events carded for the upcoming season February 2023\, is fast approaching. \nSee below the carnival competitions/events and proposed dates for competition\, including details with respect to preliminary or semi-final rounds. https://www.moe.gov.tt/school-carnival-events-2023/ \n  \n  \n 
URL:https://moe.gov.tt/event/finals-junior-soca-competition/
END:VEVENT
BEGIN:VEVENT
DTSTART;VALUE=DATE:20230216
DTEND;VALUE=DATE:20230217
DTSTAMP:20260421T152828
CREATED:20230105T160927Z
LAST-MODIFIED:20230105T160927Z
UID:7572-1676505600-1676591999@moe.gov.tt
SUMMARY:Finals -Junior Extempo Monarch
DESCRIPTION:The Schools Carnival Events carded for the upcoming season February 2023\, is fast approaching. \nSee below the carnival competitions/events and proposed dates for competition\, including details with respect to preliminary or semi-final rounds. https://www.moe.gov.tt/school-carnival-events-2023/ \n 
URL:https://moe.gov.tt/event/finals-junior-extempo-monarch/
END:VEVENT
BEGIN:VEVENT
DTSTART;VALUE=DATE:20230217
DTEND;VALUE=DATE:20230218
DTSTAMP:20260421T152828
CREATED:20230105T161214Z
LAST-MODIFIED:20230105T161214Z
UID:7251-1676592000-1676678399@moe.gov.tt
SUMMARY:Traditional Carnival Characters Parade
DESCRIPTION:The Schools Carnival Events carded for the upcoming season February 2023\, is fast approaching. \nSee below the carnival competitions/events and proposed dates for competition\, including details with respect to preliminary or semi-final rounds. https://www.moe.gov.tt/school-carnival-events-2023/ \n 
URL:https://moe.gov.tt/event/traditional-carnival-characters-parade/
END:VEVENT
BEGIN:VEVENT
DTSTART;VALUE=DATE:20230218
DTEND;VALUE=DATE:20230219
DTSTAMP:20260421T152828
CREATED:20230105T161248Z
LAST-MODIFIED:20230105T161248Z
UID:7573-1676678400-1676764799@moe.gov.tt
SUMMARY:Red Cross Junior Parade
DESCRIPTION:The Schools Carnival Events carded for the upcoming season February 2023\, is fast approaching. \nSee below the carnival competitions/events and proposed dates for competition\, including details with respect to preliminary or semi-final rounds. https://www.moe.gov.tt/school-carnival-events-2023/ \n 
URL:https://moe.gov.tt/event/red-cross-junior-parade/
END:VEVENT
END:VCALENDAR