BEGIN:VCALENDAR
VERSION:2.0
PRODID:-//Ministry of Education - ECPv6.15.20//NONSGML v1.0//EN
CALSCALE:GREGORIAN
METHOD:PUBLISH
X-WR-CALNAME:Ministry of Education
X-ORIGINAL-URL:https://moe.gov.tt
X-WR-CALDESC:Events for Ministry of Education
REFRESH-INTERVAL;VALUE=DURATION:PT1H
X-Robots-Tag:noindex
X-PUBLISHED-TTL:PT1H
BEGIN:VTIMEZONE
TZID:America/Halifax
BEGIN:DAYLIGHT
TZOFFSETFROM:-0400
TZOFFSETTO:-0300
TZNAME:ADT
DTSTART:20220313T060000
END:DAYLIGHT
BEGIN:STANDARD
TZOFFSETFROM:-0300
TZOFFSETTO:-0400
TZNAME:AST
DTSTART:20221106T050000
END:STANDARD
BEGIN:DAYLIGHT
TZOFFSETFROM:-0400
TZOFFSETTO:-0300
TZNAME:ADT
DTSTART:20230312T060000
END:DAYLIGHT
BEGIN:STANDARD
TZOFFSETFROM:-0300
TZOFFSETTO:-0400
TZNAME:AST
DTSTART:20231105T050000
END:STANDARD
BEGIN:DAYLIGHT
TZOFFSETFROM:-0400
TZOFFSETTO:-0300
TZNAME:ADT
DTSTART:20240310T060000
END:DAYLIGHT
BEGIN:STANDARD
TZOFFSETFROM:-0300
TZOFFSETTO:-0400
TZNAME:AST
DTSTART:20241103T050000
END:STANDARD
END:VTIMEZONE
BEGIN:VTIMEZONE
TZID:UTC
BEGIN:STANDARD
TZOFFSETFROM:+0000
TZOFFSETTO:+0000
TZNAME:UTC
DTSTART:20220101T000000
END:STANDARD
END:VTIMEZONE
BEGIN:VEVENT
DTSTART;VALUE=DATE:20230203
DTEND;VALUE=DATE:20230405
DTSTAMP:20260421T122301
CREATED:20230207T025627Z
LAST-MODIFIED:20230315T205129Z
UID:7576-1675382400-1680652799@moe.gov.tt
SUMMARY:🪴IEAT: I LEARN\, I GROW\, I EAT 🌱 Competition
DESCRIPTION:Food security means having\, at all times\, both physical and economic access to sufficient food to meet dietary needs for a productive and healthy life. Food security continues to be a global issue and Trinidad and Tobago is not immune to the myriad of challenges associated with becoming a food-secured nation. At the primary school level\, the use of school gardens to promote cross-curricular integration provides students with opportunities to explore food production in a more hands-on way\, making the experience a more meaningful one for all involved.\n\n\nFor more information and competition details visit>> https://www.moe.gov.tt/ieat-i-learn-i-grow-i-eat/
URL:https://moe.gov.tt/event/%f0%9f%aa%b4ieat-i-learn-i-grow-i-eat-%f0%9f%8c%b1-competition/
END:VEVENT
BEGIN:VEVENT
DTSTART;TZID=UTC:20230301T080000
DTEND;TZID=UTC:20230623T170000
DTSTAMP:20260421T122301
CREATED:20230404T194503Z
LAST-MODIFIED:20230404T194503Z
UID:8370-1677657600-1687539600@moe.gov.tt
SUMMARY:EXTENDED REGISTRATION DEADLINE IEAT: I LEARN\, I GROW\, I EAT
DESCRIPTION:EXTENDED REGISTRATION DEADLINE IEAT: I LEARN\, I GROW\, I EAT ￼ sponsored by @nutrienltd\n\n\nFor more information and competition details visit>> https://www.moe.gov.tt/ieat-i-learn-i-grow-i-eat/\n\n\n Food security means having\, at all times\, both physical and economic access to sufficient food to meet dietary needs for a productive and healthy life. Food security continues to be a global issue and Trinidad and Tobago is not immune to the myriad of challenges associated with becoming a food-secured nation. At the primary school level\, the use of school gardens to promote cross-curricular integration provides students with opportunities to explore food production in a more hands-on way\, making the experience a more meaningful one for all involved.\n\n\nPrizes were made possible by the generous sponsorship by Nutrien Trinidad and Tobago Limited.\n#Nutrien Feeding the Future.
URL:https://moe.gov.tt/event/extended-registration-deadline-ieat-i-learn-i-grow-i-eat/
END:VEVENT
BEGIN:VEVENT
DTSTART;TZID=UTC:20230313T080000
DTEND;TZID=UTC:20230428T170000
DTSTAMP:20260421T122301
CREATED:20230315T233637Z
LAST-MODIFIED:20230315T233637Z
UID:7869-1678694400-1682701200@moe.gov.tt
SUMMARY:Apply for National Bursary Award 2023 Now
DESCRIPTION:#NationalBursary – National Bursary Award 2023 \nOffer of National Bursaries by the Government of The Republic of Trinidad and Tobago for Undergraduate Studies \n The Government of the Republic of Trinidad and Tobago (GoRTT) invites ONLINE applications from citizens of Trinidad and Tobago for the offer of National Bursaries for studies commencing academic year 2022/2023. \nWho Can Apply?Citizens of Trinidad and Tobago who have completed the CAPE over a period not exceeding two (2) consecutive years (Lower VI 2020/2021 – Upper VI 2021/2022) in Form 6\, including the year of the award \nINCOMPLETE APPLICATIONS WILL NOT BE CONSIDERED. \nDEADLINE DATE FOR APPLICATION: April 28\, 2023 at 4PM \nFor application form and further details please click link \nhttps://www.scholarships.moe.gov.tt/scholarship-applications/
URL:https://moe.gov.tt/event/apply-for-national-bursary-award-2023-now/
END:VEVENT
BEGIN:VEVENT
DTSTART;TZID=UTC:20230401T080000
DTEND;TZID=UTC:20230531T170000
DTSTAMP:20260421T122301
CREATED:20230404T194121Z
LAST-MODIFIED:20230404T194334Z
UID:8367-1680336000-1685552400@moe.gov.tt
SUMMARY:ECCE Registration!
DESCRIPTION:Now Open ECCE Registration! \n\n\nEarly Childhood Care and Education Division Child’s Application Form\n\n\n Registration for 3 & 4 year olds at Government and Government Assisted ECCE centres –\n\n\nThe application must be completed on or before Wednesday 31st May 2023.\n\n\nPlease note the Required Documents\n\n\n For more information and online Application please visit >>\nhttps://www.moe.gov.tt/ecce-registration-2023/\nor\nVisit the Centre to complete the application.\n\n\nPersons who apply online\, are not required to visit the centre to apply again\n\n\nREGISTRATION WILL NOT BE EXTENDED!
URL:https://moe.gov.tt/event/now-open-ecce-registration/
END:VEVENT
BEGIN:VEVENT
DTSTART;TZID=UTC:20230403T080000
DTEND;TZID=UTC:20230421T170000
DTSTAMP:20260421T122301
CREATED:20230323T221656Z
LAST-MODIFIED:20230323T221705Z
UID:8062-1680508800-1682096400@moe.gov.tt
SUMMARY:NOTICE: N.E.C. LEVEL II/III EXAMINATIONS - Application Open
DESCRIPTION:NOTICE: N.E.C. LEVEL II/III EXAMINATIONS\nThe National Examinations Council is inviting External and Private Candidate applications for its July/August 2023 Level II/Level III Examinations\n\n\n For more information on:\n Areas of Focus\n Eligibility for External Candidate\n Eligibility for Private Candidates\n Entry Forms\n\n\nRegistration Period – April 03rd\, 2023 – April 21st\, 2023\n\n\n Please visit: https://www.moe.gov.tt/nec-examinations-2023/\n\n\n#MoEduTT #TransformingEducation #NEC2023
URL:https://moe.gov.tt/event/notice-n-e-c-level-ii-iii-examinations-application-open/
END:VEVENT
BEGIN:VEVENT
DTSTART;VALUE=DATE:20230417
DTEND;VALUE=DATE:20230418
DTSTAMP:20260421T122301
CREATED:20230418T021840Z
LAST-MODIFIED:20230418T021840Z
UID:8460-1681689600-1681775999@moe.gov.tt
SUMMARY:Academic School Year 2022/2023 Term 3
DESCRIPTION:Term III – 17th April\, 2023-  7th July\, 2023 (12 weeks)
URL:https://moe.gov.tt/event/academic-school-year-2022-2023-term-3/
END:VEVENT
END:VCALENDAR