BEGIN:VCALENDAR
VERSION:2.0
PRODID:-//Ministry of Education - ECPv6.15.20//NONSGML v1.0//EN
CALSCALE:GREGORIAN
METHOD:PUBLISH
X-WR-CALNAME:Ministry of Education
X-ORIGINAL-URL:https://moe.gov.tt
X-WR-CALDESC:Events for Ministry of Education
REFRESH-INTERVAL;VALUE=DURATION:PT1H
X-Robots-Tag:noindex
X-PUBLISHED-TTL:PT1H
BEGIN:VTIMEZONE
TZID:UTC
BEGIN:STANDARD
TZOFFSETFROM:+0000
TZOFFSETTO:+0000
TZNAME:UTC
DTSTART:20220101T000000
END:STANDARD
END:VTIMEZONE
BEGIN:VTIMEZONE
TZID:America/Halifax
BEGIN:DAYLIGHT
TZOFFSETFROM:-0400
TZOFFSETTO:-0300
TZNAME:ADT
DTSTART:20220313T060000
END:DAYLIGHT
BEGIN:STANDARD
TZOFFSETFROM:-0300
TZOFFSETTO:-0400
TZNAME:AST
DTSTART:20221106T050000
END:STANDARD
BEGIN:DAYLIGHT
TZOFFSETFROM:-0400
TZOFFSETTO:-0300
TZNAME:ADT
DTSTART:20230312T060000
END:DAYLIGHT
BEGIN:STANDARD
TZOFFSETFROM:-0300
TZOFFSETTO:-0400
TZNAME:AST
DTSTART:20231105T050000
END:STANDARD
BEGIN:DAYLIGHT
TZOFFSETFROM:-0400
TZOFFSETTO:-0300
TZNAME:ADT
DTSTART:20240310T060000
END:DAYLIGHT
BEGIN:STANDARD
TZOFFSETFROM:-0300
TZOFFSETTO:-0400
TZNAME:AST
DTSTART:20241103T050000
END:STANDARD
END:VTIMEZONE
BEGIN:VEVENT
DTSTART;VALUE=DATE:20230701
DTEND;VALUE=DATE:20230715
DTSTAMP:20260421T073359
CREATED:20230711T202302Z
LAST-MODIFIED:20230711T202302Z
UID:9129-1688169600-1689379199@moe.gov.tt
SUMMARY:VRP Registration 2023
DESCRIPTION:Blast off to success! \n\n\nThe Ministry of Education’s Re-engaging for Success is a remediation initiative that addresses various barriers to learning which affect students on an individual level as well as environmental factors that include peers\, school\, family and community.\n\nThe project targets eighty (80) primary and twenty-six (26) secondary schools in Trinidad during Academic Year 2022 -2023 and continuing.\n\n\n\nApplication closing date: July 14th\, 2023\nRegistration Form for Parents of Secondary Students – Vacation Revision Programme 2023 (online submission) https://forms.office.com/r/FkGFTX3Jye\nClick on the link below for more information:\nhttps://www.moe.gov.tt/vacation-programme-2023/
URL:https://moe.gov.tt/event/vrp-registration-2023/
END:VEVENT
BEGIN:VEVENT
DTSTART;VALUE=DATE:20230703
DTEND;VALUE=DATE:20230704
DTSTAMP:20260421T073359
CREATED:20230711T202458Z
LAST-MODIFIED:20230711T202458Z
UID:9131-1688342400-1688428799@moe.gov.tt
SUMMARY:SEA RESULTS 2023
DESCRIPTION:Access your SEA Results NOW: https://searesults.moe.gov.tt \nWhat do I need to access the SEA Online Results Portal?\nTo access the SEA Online Portal\, you need the student’s date of birth\, student number and admissions number all of which are on the SEA Admission Slip. \n#SEAonline #TransformingEducation #MoEduTT #SEA2023
URL:https://moe.gov.tt/event/sea-results-2023/
END:VEVENT
BEGIN:VEVENT
DTSTART;VALUE=DATE:20230707
DTEND;VALUE=DATE:20230708
DTSTAMP:20260421T073359
CREATED:20230418T021956Z
LAST-MODIFIED:20230418T021956Z
UID:8462-1688688000-1688774399@moe.gov.tt
SUMMARY:Academic School Year 2022/2023 Term 3
DESCRIPTION:Term III – 17th April\, 2023-  7th July\, 2023 (12 weeks)
URL:https://moe.gov.tt/event/academic-school-year-2022-2023-term-3-2/
END:VEVENT
BEGIN:VEVENT
DTSTART;TZID=UTC:20230708T080000
DTEND;TZID=UTC:20230709T170000
DTSTAMP:20260421T073359
CREATED:20230711T202614Z
LAST-MODIFIED:20230711T202614Z
UID:9133-1688803200-1688922000@moe.gov.tt
SUMMARY:The Bubb Report
DESCRIPTION:The Bubb Report will be joined by Trinidad and Tobago’s Education Minister\, Dr. Nyan Gasby-Dolly tomorrow 9th July 2023\n\n\nhttps://www.facebook.com/thebubbreport/\n\n\nhttps://www.youtube.com/channel/UC6oilgybyHKcwFKlaX2cORA
URL:https://moe.gov.tt/event/the-bubb-report/
END:VEVENT
BEGIN:VEVENT
DTSTART;TZID=UTC:20230714T080000
DTEND;TZID=UTC:20230719T170000
DTSTAMP:20260421T073359
CREATED:20230714T210358Z
LAST-MODIFIED:20230714T210358Z
UID:9141-1689321600-1689786000@moe.gov.tt
SUMMARY:VAPA TEACHERS  (VRP) REGISTRATION
DESCRIPTION:Are you a Visual and Performing Arts (VAPA) teacher in the area of dance\, music or drama at a Ministry of Education Secondary School and interested in teaching with the Vacation Revision Programme at Primary school?\n\n\nContact the Principal of the school in which you teach for further details.\n\n\nRegistration closes on Wednesday 19th July\, 2022 at 4:00 P.M.\n\n\nClick on the link below for more information:\nhttps://www.moe.gov.tt/vacation-programme-2023/
URL:https://moe.gov.tt/event/vapa-teachers-vrp-registration/
END:VEVENT
END:VCALENDAR