BEGIN:VCALENDAR
VERSION:2.0
PRODID:-//Ministry of Education - ECPv6.15.20//NONSGML v1.0//EN
CALSCALE:GREGORIAN
METHOD:PUBLISH
X-ORIGINAL-URL:https://moe.gov.tt
X-WR-CALDESC:Events for Ministry of Education
REFRESH-INTERVAL;VALUE=DURATION:PT1H
X-Robots-Tag:noindex
X-PUBLISHED-TTL:PT1H
BEGIN:VTIMEZONE
TZID:UTC
BEGIN:STANDARD
TZOFFSETFROM:+0000
TZOFFSETTO:+0000
TZNAME:UTC
DTSTART:20220101T000000
END:STANDARD
END:VTIMEZONE
BEGIN:VTIMEZONE
TZID:America/Halifax
BEGIN:DAYLIGHT
TZOFFSETFROM:-0400
TZOFFSETTO:-0300
TZNAME:ADT
DTSTART:20230312T060000
END:DAYLIGHT
BEGIN:STANDARD
TZOFFSETFROM:-0300
TZOFFSETTO:-0400
TZNAME:AST
DTSTART:20231105T050000
END:STANDARD
BEGIN:DAYLIGHT
TZOFFSETFROM:-0400
TZOFFSETTO:-0300
TZNAME:ADT
DTSTART:20240310T060000
END:DAYLIGHT
BEGIN:STANDARD
TZOFFSETFROM:-0300
TZOFFSETTO:-0400
TZNAME:AST
DTSTART:20241103T050000
END:STANDARD
BEGIN:DAYLIGHT
TZOFFSETFROM:-0400
TZOFFSETTO:-0300
TZNAME:ADT
DTSTART:20250309T060000
END:DAYLIGHT
BEGIN:STANDARD
TZOFFSETFROM:-0300
TZOFFSETTO:-0400
TZNAME:AST
DTSTART:20251102T050000
END:STANDARD
END:VTIMEZONE
BEGIN:VEVENT
DTSTART;VALUE=DATE:20231211
DTEND;VALUE=DATE:20240113
DTSTAMP:20260420T174747
CREATED:20240105T032925Z
LAST-MODIFIED:20240105T034032Z
UID:10237-1702252800-1705103999@moe.gov.tt
SUMMARY:National Call for Volunteer Mentors
DESCRIPTION:Calling NGOs\, Influencers\, Inspirational Speakers… Volunteer Today!\n🤔 Do you have a track record of youth work?\n✅ Can you conduct inspirational sessions with students of Forms 1-3 throughout this academic year?\nApply now to be a volunteer mentor.\n🔗 For details and to apply online visit >> https://www.moe.gov.tt/turn-up-mentorship2024/
URL:https://moe.gov.tt/event/national-call-for-volunteer-mentors/
END:VEVENT
BEGIN:VEVENT
DTSTART;VALUE=DATE:20240102
DTEND;VALUE=DATE:20240103
DTSTAMP:20260420T174747
CREATED:20230729T203139Z
LAST-MODIFIED:20230729T203139Z
UID:9181-1704153600-1704239999@moe.gov.tt
SUMMARY:School Year 2023- 2024 Term II
DESCRIPTION:January 2 2024 to March 22 2024 – 12 weeks
URL:https://moe.gov.tt/event/school-year-2023-2024-term-ii/
END:VEVENT
BEGIN:VEVENT
DTSTART;TZID=UTC:20240102T070000
DTEND;TZID=UTC:20240102T170000
DTSTAMP:20260420T174747
CREATED:20230823T183316Z
LAST-MODIFIED:20230823T183335Z
UID:9251-1704178800-1704214800@moe.gov.tt
SUMMARY:School Year 2023 – 2024 Term II Start
DESCRIPTION:Term II Start
URL:https://moe.gov.tt/event/school-year-2023-2024-term-ii-start/
END:VEVENT
BEGIN:VEVENT
DTSTART;VALUE=DATE:20240104
DTEND;VALUE=DATE:20240105
DTSTAMP:20260420T174747
CREATED:20240105T032714Z
LAST-MODIFIED:20240105T032714Z
UID:10235-1704326400-1704412799@moe.gov.tt
SUMMARY:World Braille Day
DESCRIPTION:On World Braille Day\, we celebrate the brilliance of tactile literacy. Education knows no boundaries\, and the Ministry of Education is committed to ensuring a brighter future for all learners.\n #WorldBrailleDay #InclusiveEducation
URL:https://moe.gov.tt/event/world-braille-day/
END:VEVENT
BEGIN:VEVENT
DTSTART;VALUE=DATE:20240111
DTEND;VALUE=DATE:20240115
DTSTAMP:20260420T174747
CREATED:20240111T211011Z
LAST-MODIFIED:20240111T211011Z
UID:10289-1704931200-1705276799@moe.gov.tt
SUMMARY:Scholarship Opportunity: Mexican Petroleum Institute For Postgraduate Studies in Sciences or Engineering
DESCRIPTION:🎓Offer of Scholarships🎓\nMexican Petroleum Institute For Postgraduate Studies In Sciences Or Engineering\n📅Deadline for applications – 14 January  2024\,\n🔗The Scholarship application information is now online and can be accessed via the website https://www.scholarships.moe.gov.tt/
URL:https://moe.gov.tt/event/scholarship-opportunity-mexican-petroleum-institute-for-postgraduate-studies-in-sciences-or-engineering/
END:VEVENT
BEGIN:VEVENT
DTSTART;VALUE=DATE:20240115
DTEND;VALUE=DATE:20240309
DTSTAMP:20260420T174747
CREATED:20240205T233104Z
LAST-MODIFIED:20240205T233104Z
UID:10512-1705276800-1709942399@moe.gov.tt
SUMMARY:National Bursary Award 2024 - Open
DESCRIPTION:#NationalBursary – National Bursary Award 2024 \n\n\nOffer of National Bursaries by the Government of The Republic of Trinidad and Tobago for Undergraduate Studies\n\n\nThe Government of the Republic of Trinidad and Tobago (GoRTT) invites ONLINE applications from citizens of Trinidad and Tobago for the offer of National Bursaries for studies commencing academic year 2023/2024.\n\n\n Who Can Apply? \nCitizens of Trinidad and Tobago who have completed the CAPE over a period not exceeding two (2) consecutive years (Lower VI 2021/2022 – Upper VI 2022/2023) in Form 6\, including the year of the award.\n\n\nINCOMPLETE APPLICATIONS WILL NOT BE CONSIDERED.\nDEADLINE DATE FOR APPLICATION: March 08th 2024 at 4:00PM\n\n\n For application form and further details please visit>>\nhttps://www.scholarships.moe.gov.tt/scholarship…/
URL:https://moe.gov.tt/event/national-bursary-award-2024-open/
END:VEVENT
BEGIN:VEVENT
DTSTART;VALUE=DATE:20240116
DTEND;VALUE=DATE:20240131
DTSTAMP:20260420T174747
CREATED:20240118T151003Z
LAST-MODIFIED:20240118T201907Z
UID:10332-1705363200-1706659199@moe.gov.tt
SUMMARY:Private School Owners Discussion
DESCRIPTION:Attention to all education providers!  Join us for a crucial discussion on private school registration hosted by the Ministry of Education.  Save the date: January 31\, 2024\, from 1:30 p.m. to 3:30 p.m.\n\n\nAgenda:\n Overview of Private School Registration Requirements\n Discussion on Regulatory Compliance\n Addressing Potential Challenges and Solutions\n\n\n Register in advance: https://forms.office.com/r/eRAAipTuZ8 . Hurry\, registration closes on January 29\, 2024\, at 11:59 p.m. The meeting link will be emailed by January 30\, 2024.\n\n\nLet’s make this discussion productive! We want to hear from You!\n\n\nFor more information on the registration of private schools  visit >> https://www.moe.gov.tt/registration-of-private-schools…/\n\n\n #EducationMeeting #PrivateSchools #RegistrationMatters
URL:https://moe.gov.tt/event/private-school-owners-discussion/
END:VEVENT
BEGIN:VEVENT
DTSTART;VALUE=DATE:20240118
DTEND;VALUE=DATE:20240302
DTSTAMP:20260420T174747
CREATED:20240118T200246Z
LAST-MODIFIED:20240118T200246Z
UID:10339-1705536000-1709337599@moe.gov.tt
SUMMARY:Offer of Scholarships CHINA
DESCRIPTION:Scholarship Opportunity\n\n\nOffer of Scholarships by The Government Of The People’s Republic Of China For Period 2024 / 2025\n\n\n Interested persons can access further details about the application process at www.scholarships.moe.gov.tt\n\n\nDeadline Date: March 01st 2023
URL:https://moe.gov.tt/event/offer-of-scholarships-china/
END:VEVENT
BEGIN:VEVENT
DTSTART;VALUE=DATE:20240122
DTEND;VALUE=DATE:20240124
DTSTAMP:20260420T174747
CREATED:20240124T213240Z
LAST-MODIFIED:20240124T213240Z
UID:10403-1705881600-1706054399@moe.gov.tt
SUMMARY:Secondary Schools’ National Volleyball Tournament
DESCRIPTION:
URL:https://moe.gov.tt/event/secondary-schools-national-volleyball-tournament/
END:VEVENT
BEGIN:VEVENT
DTSTART;VALUE=DATE:20240124
DTEND;VALUE=DATE:20240126
DTSTAMP:20260420T174747
CREATED:20240125T015407Z
LAST-MODIFIED:20240125T015445Z
UID:10410-1706054400-1706227199@moe.gov.tt
SUMMARY:Secondary Schools' Track & Field Association of Trinidad & Tobago Regionals
DESCRIPTION:
URL:https://moe.gov.tt/event/secondary-schools-track-field-association-of-trinidad-tobago-regionals/
END:VEVENT
BEGIN:VEVENT
DTSTART;VALUE=DATE:20240124
DTEND;VALUE=DATE:20240221
DTSTAMP:20260420T174747
CREATED:20240124T161609Z
LAST-MODIFIED:20240124T162145Z
UID:10376-1706054400-1708473599@moe.gov.tt
SUMMARY:Scholarship Opportunity: The Republic Of Türkiye
DESCRIPTION:❗Scholarship Opportunity 🎓 \n✈️The Government Of The Republic Of Türkiye To Pursue Studies For The 2024/2025 Academic \n🔗 Interested persons can access further details about the application process at www.scholarships.moe.gov.tt \n📆Deadline Date: February 20th 2024 \n 
URL:https://moe.gov.tt/event/scholarship-opportunity-the-republic-of-turkiye/
END:VEVENT
BEGIN:VEVENT
DTSTART;VALUE=DATE:20240124
DTEND;VALUE=DATE:20240302
DTSTAMP:20260420T174747
CREATED:20240124T213114Z
LAST-MODIFIED:20240124T213114Z
UID:10401-1706054400-1709337599@moe.gov.tt
SUMMARY:Scholarship Opportunity: OAS Academic Scholarship Program
DESCRIPTION:Scholarship Opportunity \n\n\nOAS Academic Scholarship Program for Undergraduate and Graduate Studies/Research\n\n\n Interested persons can access further details about the application process at www.scholarships.moe.gov.tt\n\n\nDeadline Date: -1st March 2024
URL:https://moe.gov.tt/event/scholarship-opportunity-oas-academic-scholarship-program/
END:VEVENT
BEGIN:VEVENT
DTSTART;VALUE=DATE:20240129
DTEND;VALUE=DATE:20240131
DTSTAMP:20260420T174747
CREATED:20240124T213344Z
LAST-MODIFIED:20240124T213344Z
UID:10405-1706486400-1706659199@moe.gov.tt
SUMMARY:Secondary Schools’ National Volleyball Tournament
DESCRIPTION:The Secondary Schools’ Volleyball League (SSVL) is thrilled to announce the upcoming Secondary Schools’ National Volleyball Tournament\, to be held on January 22nd\, 23rd\, 25th\, 29th and 30th at the South Regional Indoor Sporting Arena (Pleanantville). Additionally\, the finals will take place on the 3rd and 4th of February\, with the venue yet to be announced.’ \nThe tournament will showcase talented young athletes from secondary schools across Trinidad and Tobago\, competing at the national level in the sport of volleyball. This event promises to be a thrilling and action-packed experience\, where the next generation of volleyball players will demonstrate their skills\, teamwork\, and sportsmanship.
URL:https://moe.gov.tt/event/secondary-schools-national-volleyball-tournament-2/
END:VEVENT
BEGIN:VEVENT
DTSTART;VALUE=DATE:20240130
DTEND;VALUE=DATE:20240202
DTSTAMP:20260420T174747
CREATED:20240125T015551Z
LAST-MODIFIED:20240125T015551Z
UID:10413-1706572800-1706831999@moe.gov.tt
SUMMARY:Secondary Schools' Track & Field Association of Trinidad & Tobago Regionals North
DESCRIPTION:
URL:https://moe.gov.tt/event/secondary-schools-track-field-association-of-trinidad-tobago-regionals-north/
END:VEVENT
END:VCALENDAR