BEGIN:VCALENDAR
VERSION:2.0
PRODID:-//Ministry of Education - ECPv6.15.20//NONSGML v1.0//EN
CALSCALE:GREGORIAN
METHOD:PUBLISH
X-WR-CALNAME:Ministry of Education
X-ORIGINAL-URL:https://moe.gov.tt
X-WR-CALDESC:Events for Ministry of Education
REFRESH-INTERVAL;VALUE=DURATION:PT1H
X-Robots-Tag:noindex
X-PUBLISHED-TTL:PT1H
BEGIN:VTIMEZONE
TZID:America/Halifax
BEGIN:DAYLIGHT
TZOFFSETFROM:-0400
TZOFFSETTO:-0300
TZNAME:ADT
DTSTART:20230312T060000
END:DAYLIGHT
BEGIN:STANDARD
TZOFFSETFROM:-0300
TZOFFSETTO:-0400
TZNAME:AST
DTSTART:20231105T050000
END:STANDARD
BEGIN:DAYLIGHT
TZOFFSETFROM:-0400
TZOFFSETTO:-0300
TZNAME:ADT
DTSTART:20240310T060000
END:DAYLIGHT
BEGIN:STANDARD
TZOFFSETFROM:-0300
TZOFFSETTO:-0400
TZNAME:AST
DTSTART:20241103T050000
END:STANDARD
BEGIN:DAYLIGHT
TZOFFSETFROM:-0400
TZOFFSETTO:-0300
TZNAME:ADT
DTSTART:20250309T060000
END:DAYLIGHT
BEGIN:STANDARD
TZOFFSETFROM:-0300
TZOFFSETTO:-0400
TZNAME:AST
DTSTART:20251102T050000
END:STANDARD
END:VTIMEZONE
BEGIN:VTIMEZONE
TZID:UTC
BEGIN:STANDARD
TZOFFSETFROM:+0000
TZOFFSETTO:+0000
TZNAME:UTC
DTSTART:20230101T000000
END:STANDARD
END:VTIMEZONE
BEGIN:VEVENT
DTSTART;VALUE=DATE:20240115
DTEND;VALUE=DATE:20240309
DTSTAMP:20260420T142206
CREATED:20240205T233104Z
LAST-MODIFIED:20240205T233104Z
UID:10512-1705276800-1709942399@moe.gov.tt
SUMMARY:National Bursary Award 2024 - Open
DESCRIPTION:#NationalBursary – National Bursary Award 2024 \n\n\nOffer of National Bursaries by the Government of The Republic of Trinidad and Tobago for Undergraduate Studies\n\n\nThe Government of the Republic of Trinidad and Tobago (GoRTT) invites ONLINE applications from citizens of Trinidad and Tobago for the offer of National Bursaries for studies commencing academic year 2023/2024.\n\n\n Who Can Apply? \nCitizens of Trinidad and Tobago who have completed the CAPE over a period not exceeding two (2) consecutive years (Lower VI 2021/2022 – Upper VI 2022/2023) in Form 6\, including the year of the award.\n\n\nINCOMPLETE APPLICATIONS WILL NOT BE CONSIDERED.\nDEADLINE DATE FOR APPLICATION: March 08th 2024 at 4:00PM\n\n\n For application form and further details please visit>>\nhttps://www.scholarships.moe.gov.tt/scholarship…/
URL:https://moe.gov.tt/event/national-bursary-award-2024-open/
END:VEVENT
BEGIN:VEVENT
DTSTART;VALUE=DATE:20240118
DTEND;VALUE=DATE:20240302
DTSTAMP:20260420T142206
CREATED:20240118T200246Z
LAST-MODIFIED:20240118T200246Z
UID:10339-1705536000-1709337599@moe.gov.tt
SUMMARY:Offer of Scholarships CHINA
DESCRIPTION:Scholarship Opportunity\n\n\nOffer of Scholarships by The Government Of The People’s Republic Of China For Period 2024 / 2025\n\n\n Interested persons can access further details about the application process at www.scholarships.moe.gov.tt\n\n\nDeadline Date: March 01st 2023
URL:https://moe.gov.tt/event/offer-of-scholarships-china/
END:VEVENT
BEGIN:VEVENT
DTSTART;VALUE=DATE:20240124
DTEND;VALUE=DATE:20240302
DTSTAMP:20260420T142206
CREATED:20240124T213114Z
LAST-MODIFIED:20240124T213114Z
UID:10401-1706054400-1709337599@moe.gov.tt
SUMMARY:Scholarship Opportunity: OAS Academic Scholarship Program
DESCRIPTION:Scholarship Opportunity \n\n\nOAS Academic Scholarship Program for Undergraduate and Graduate Studies/Research\n\n\n Interested persons can access further details about the application process at www.scholarships.moe.gov.tt\n\n\nDeadline Date: -1st March 2024
URL:https://moe.gov.tt/event/scholarship-opportunity-oas-academic-scholarship-program/
END:VEVENT
BEGIN:VEVENT
DTSTART;VALUE=DATE:20240205
DTEND;VALUE=DATE:20240323
DTSTAMP:20260420T142206
CREATED:20240205T232611Z
LAST-MODIFIED:20240205T232611Z
UID:10509-1707091200-1711151999@moe.gov.tt
SUMMARY:Application for Admission of Infant Year 1 - September 2024 OPEN
DESCRIPTION:REGISTRATION IS OPEN\nApplication for Admission of Infant Year 1 – September 2024\n\n\n Standardised application forms for admission to Infant Year 1 at schools are available at the school and at the respective Education District Offices during normal working hours from Monday\, February 5\, 2024. Forms are also available for download from the Ministry’s website.\n\n\nCompleted application forms must be submitted to the school by Friday\, March 22\, 2024\n\n\nFor more information and access to forms visit:\nhttps://www.moe.gov.tt/admission-of-infant-year-1-2024/\n\n\n#InfantYear1 #SchoolAdmissions #RegisterNow
URL:https://moe.gov.tt/event/application-for-admission-of-infant-year-1-september-2024-open/
END:VEVENT
BEGIN:VEVENT
DTSTART;VALUE=DATE:20240301
DTEND;VALUE=DATE:20240401
DTSTAMP:20260420T142206
CREATED:20240305T012306Z
LAST-MODIFIED:20240305T012306Z
UID:10681-1709251200-1711929599@moe.gov.tt
SUMMARY:Scholarship Opportunity: The Rowe Fund
DESCRIPTION:Scholarship Opportunity \n\n\n OAS Rowe Fund\nOffer Of Financial Aid: International Students From Latin America And The Caribbean Accepted To Study At Universities In The United States Of America (USA)\n\n\n Interested persons can access further details about the application process at www.scholarships.moe.gov.tt
URL:https://moe.gov.tt/event/scholarship-opportunity-the-rowe-fund/
END:VEVENT
BEGIN:VEVENT
DTSTART;VALUE=DATE:20240305
DTEND;VALUE=DATE:20240327
DTSTAMP:20260420T142206
CREATED:20240305T012448Z
LAST-MODIFIED:20240305T012626Z
UID:10683-1709596800-1711497599@moe.gov.tt
SUMMARY:Notice: REGISTRATION FOR PRIMARY SCHOOL LEAVING CERTIFICATE EXAMINATIONS (PSLCE) 2024
DESCRIPTION:Notice: REGISTRATION FOR PRIMARY SCHOOL LEAVING CERTIFICATE EXAMINATIONS (PSLCE) 2024\n\n\nThe Ministry of Education wishes to advise that the registration date of the 2024 Primary School Leaving Examinations is 05th March 2024 – 26th March from and returned to- Ministry of Education #5-7 St Vincent Street Port of Spain
URL:https://moe.gov.tt/event/notice-registration-for-primary-school-leaving-certificate-examinations-pslce-2024/
END:VEVENT
BEGIN:VEVENT
DTSTART;VALUE=DATE:20240305
DTEND;VALUE=DATE:20240327
DTSTAMP:20260420T142206
CREATED:20240309T034619Z
LAST-MODIFIED:20240309T034619Z
UID:10759-1709596800-1711497599@moe.gov.tt
SUMMARY:REGISTRATION FOR PRIMARY SCHOOL LEAVING CERTIFICATE EXAMINATIONS (PSLCE) 2024
DESCRIPTION:Notice: REGISTRATION FOR PRIMARY SCHOOL LEAVING CERTIFICATE EXAMINATIONS (PSLCE) 2024\n\n\nThe Ministry of Education wishes to advise that the registration date of the 2024 Primary School Leaving Examinations is 05th March 2024 – 26th March from and returned to- Ministry of Education #5-7 St Vincent Street Port of Spain
URL:https://moe.gov.tt/event/registration-for-primary-school-leaving-certificate-examinations-pslce-2024/
END:VEVENT
BEGIN:VEVENT
DTSTART;VALUE=DATE:20240308
DTEND;VALUE=DATE:20240309
DTSTAMP:20260420T142206
CREATED:20240309T034042Z
LAST-MODIFIED:20240309T034042Z
UID:10754-1709856000-1709942399@moe.gov.tt
SUMMARY:International Women's Day
DESCRIPTION:
URL:https://moe.gov.tt/event/international-womens-day/
END:VEVENT
BEGIN:VEVENT
DTSTART;VALUE=DATE:20240308
DTEND;VALUE=DATE:20240322
DTSTAMP:20260420T142206
CREATED:20240309T035121Z
LAST-MODIFIED:20240309T035139Z
UID:10761-1709856000-1711065599@moe.gov.tt
SUMMARY:Secondary Entrance Assessment (SEA) 2024
DESCRIPTION:
URL:https://moe.gov.tt/event/secondary-entrance-assessment-sea-2024/
END:VEVENT
BEGIN:VEVENT
DTSTART;VALUE=DATE:20240308
DTEND;VALUE=DATE:20240323
DTSTAMP:20260420T142206
CREATED:20240309T034434Z
LAST-MODIFIED:20240309T034557Z
UID:10757-1709856000-1711151999@moe.gov.tt
SUMMARY:National Bursary Award 2024 Deadline Extension
DESCRIPTION:Attention\, Trinidad and Tobago!  Exciting news for aspiring scholars!  The National Bursary Award 2024 deadline has been EXTENDED!\n\n\n The Government of the Republic of Trinidad and Tobago (GoRTT) is offering National Bursaries for Undergraduate Studies\, and you don’t want to miss out! \n\n\n Calling all Citizens of Trinidad and Tobago who have completed the CAPE over a period not exceeding two (2) consecutive years (Lower VI 2021/2022 – Upper VI 2022/2023) in Form 6\, including the year of the award. \n\n\n Remember\, incomplete applications won’t make the cut\, so make sure yours is top-notch! \n\n\n Don’t be late! The new DEADLINE for applications is March 22nd\, 2024. \n\n\nReady to take the next step? Visit  https://www.scholarships.moe.gov.tt/scholarship…/ the application form and more details. \n\n\nSeize this opportunity for a brighter academic future! \n#NationalBursary #ScholarshipOpportunity #TrinidadAndTobagoEducation
URL:https://moe.gov.tt/event/national-bursary-award-2024-deadline-extension/
END:VEVENT
BEGIN:VEVENT
DTSTART;TZID=America/Halifax:20240322T070000
DTEND;TZID=America/Halifax:20240322T170000
DTSTAMP:20260420T142206
CREATED:20230823T183510Z
LAST-MODIFIED:20230823T183510Z
UID:9253-1711090800-1711126800@moe.gov.tt
SUMMARY:School Year 2023 – 2024 Term II End
DESCRIPTION:Term II End
URL:https://moe.gov.tt/event/school-year-2023-2024-term-ii-end/
END:VEVENT
BEGIN:VEVENT
DTSTART;VALUE=DATE:20240325
DTEND;VALUE=DATE:20240326
DTSTAMP:20260420T142206
CREATED:20240404T045937Z
LAST-MODIFIED:20240404T045937Z
UID:10953-1711324800-1711411199@moe.gov.tt
SUMMARY:January Results CSEC Results 2024
DESCRIPTION:Exciting news!  January Results CSEC Results today\n\n\nThe Caribbean Examinations Council is thrilled to reveal that the January 2024 CSEC® results will be released to candidates on March 25\, 2024\, at 3:00 pm (AST). To view your results\, kindly visit: bit.ly/results-cxc/
URL:https://moe.gov.tt/event/january-results-csec-results-2024/
END:VEVENT
END:VCALENDAR