BEGIN:VCALENDAR
VERSION:2.0
PRODID:-//Ministry of Education - ECPv6.15.20//NONSGML v1.0//EN
CALSCALE:GREGORIAN
METHOD:PUBLISH
X-WR-CALNAME:Ministry of Education
X-ORIGINAL-URL:https://moe.gov.tt
X-WR-CALDESC:Events for Ministry of Education
REFRESH-INTERVAL;VALUE=DURATION:PT1H
X-Robots-Tag:noindex
X-PUBLISHED-TTL:PT1H
BEGIN:VTIMEZONE
TZID:America/Halifax
BEGIN:DAYLIGHT
TZOFFSETFROM:-0400
TZOFFSETTO:-0300
TZNAME:ADT
DTSTART:20230312T060000
END:DAYLIGHT
BEGIN:STANDARD
TZOFFSETFROM:-0300
TZOFFSETTO:-0400
TZNAME:AST
DTSTART:20231105T050000
END:STANDARD
BEGIN:DAYLIGHT
TZOFFSETFROM:-0400
TZOFFSETTO:-0300
TZNAME:ADT
DTSTART:20240310T060000
END:DAYLIGHT
BEGIN:STANDARD
TZOFFSETFROM:-0300
TZOFFSETTO:-0400
TZNAME:AST
DTSTART:20241103T050000
END:STANDARD
BEGIN:DAYLIGHT
TZOFFSETFROM:-0400
TZOFFSETTO:-0300
TZNAME:ADT
DTSTART:20250309T060000
END:DAYLIGHT
BEGIN:STANDARD
TZOFFSETFROM:-0300
TZOFFSETTO:-0400
TZNAME:AST
DTSTART:20251102T050000
END:STANDARD
END:VTIMEZONE
BEGIN:VEVENT
DTSTART;VALUE=DATE:20240503
DTEND;VALUE=DATE:20240817
DTSTAMP:20260420T064735
CREATED:20240520T204825Z
LAST-MODIFIED:20240520T204825Z
UID:11159-1714694400-1723852799@moe.gov.tt
SUMMARY:(TVITT) Diploma programme
DESCRIPTION: 𝗔𝗧𝗧𝗘𝗡𝗧𝗜𝗢𝗡 𝗔𝗟𝗟 𝗘𝗗𝗨𝗖𝗔𝗧𝗢𝗥𝗦 𝗔𝗡𝗗 𝗣𝗥𝗢𝗙𝗘𝗦𝗦𝗜𝗢𝗡𝗔𝗟𝗦 𝗜𝗡 𝗧𝗛𝗘 𝗙𝗜𝗘𝗟𝗗!𝗥𝗘𝗚𝗜𝗦𝗧𝗘𝗥 𝗡𝗢𝗪 for the perfect Diploma programme tailored just for you  Technical-Vocational Instructor/Teacher Training (TVITT) Diploma programme  Read more/APPLY NOW here: https://www.mic.co.tt/avet/ Deadline to register: Friday\, 16 August 2024 Officially approved by @Ministry of Education – TTFor more information: +1-868-663-4642 ext. 3057 / 3306 avetraru@mic
URL:https://moe.gov.tt/event/tvitt-diploma-programme/
END:VEVENT
BEGIN:VEVENT
DTSTART;VALUE=DATE:20240520
DTEND;VALUE=DATE:20240802
DTSTAMP:20260420T064735
CREATED:20240520T204507Z
LAST-MODIFIED:20240520T204507Z
UID:11155-1716163200-1722556799@moe.gov.tt
SUMMARY:EMBASSY OF THE REPUBLIC OF AZERBAIJAN-ADA UNIVERSITY INTERNATIONAL FELLOWSHIP
DESCRIPTION:Interested persons can access further details about the application process at www.scholarships.moe.gov.tt\n\n\nUndergraduate Deadline: August 1\, 2024.\nGraduate Deadline: July 1\, 2024.
URL:https://moe.gov.tt/event/embassy-of-the-republic-of-azerbaijan-ada-university-international-fellowship/
END:VEVENT
BEGIN:VEVENT
DTSTART;VALUE=DATE:20240818
DTEND;VALUE=DATE:20240819
DTSTAMP:20260420T064735
CREATED:20240829T163830Z
LAST-MODIFIED:20240829T163830Z
UID:11632-1723939200-1724025599@moe.gov.tt
SUMMARY:May-June 2024 CXC® Examinations Results
DESCRIPTION:#Notice: The preliminary results for the May-June 2024 CXC® examinations will be accessible online at 3:00 pm (AST) on Tuesday\, 20 August\, 2024. Candidates may access their results via the Student Portal at >> https://bit.ly/mycxc-results\n\n\nThe Caribbean Examinations Council (CXC®) is pleased to inform of the introduction of electronic Preslips (e-Preslips) to candidates who recently completed their Caribbean Advanced Proficiency Examination® (CAPE®)\, Caribbean Secondary Education Certificate® (CSEC®) and Caribbean Certificate of Secondary Level Competence® (CCSLC®) examinations.\nThis means that for the May-June 2024 sitting\, there is a transition from physical\, printed Preslips\, which are dispatched to Local Registrars for distribution to candidates\, to electronic Preslips (e-Preslips)\, which candidates can download via the online ORS Student Portal.\n\n\nThe e-Preslip will offer candidates\, parents\, higher education institutions\, prospective employers and other stakeholders\, a facility to verify a candidate’s results by scanning a QR code on the presented e-Preslip.\n\n\nCXC’s latest digital innovation will result in benefits for candidates\, as well as many of stakeholders.\n\n\nFor more information\, please see the\nFREQUENTLY ASKED QUESTIONS CXC® e-Preslips\nor visit https://exams.moe.gov.tt/
URL:https://moe.gov.tt/event/may-june-2024-cxc-examinations-results/
END:VEVENT
BEGIN:VEVENT
DTSTART;VALUE=DATE:20240821
DTEND;VALUE=DATE:20240822
DTSTAMP:20260420T064735
CREATED:20240829T163557Z
LAST-MODIFIED:20240829T163613Z
UID:11630-1724198400-1724284799@moe.gov.tt
SUMMARY:UWI Global Campus International School for Development Justice (ISDJ)
DESCRIPTION:The Honourable Dr. Nyan Gadsby-Dolly\, Minister of Education\, offered the keynote address at the launch of UWI Global Campus International School for Development Justice (ISDJ) today at the Sagicor Cave Hill School of Business and Management\, the UWI today\, Wednesday August 21st\, 2024.\n\n\n“For we must not hide from nor try to outrun our challenges\, and worse yet resort to hiding our heads in the sand. We must face them like the resilient Caribbean people we are and find innovative solutions. Our ancestors were revolutionaries and solutionaries\, we are no less so.”
URL:https://moe.gov.tt/event/uwi-global-campus-international-school-for-development-justice-isdj/
END:VEVENT
BEGIN:VEVENT
DTSTART;VALUE=DATE:20240826
DTEND;VALUE=DATE:20240901
DTSTAMP:20260420T064735
CREATED:20240829T163448Z
LAST-MODIFIED:20240829T163448Z
UID:11628-1724630400-1725148799@moe.gov.tt
SUMMARY:✅ DISTRIBUTION OF CERTIFICATES FOR PRIVATE CANDIDATES JANUARY 2024 EXAMINATIONS.
DESCRIPTION:Examinations Update\n\n\n DISTRIBUTION OF CERTIFICATES FOR PRIVATE CANDIDATES JANUARY 2024 EXAMINATIONS.\n\n\nPlease be advised that the distribution of Certificates for Private Candidates January 2024 Examinations will take place at the following locations from 26th August to 31st October 2024:
URL:https://moe.gov.tt/event/%e2%9c%85-distribution-of-certificates-for-private-candidates-january-2024-examinations/
END:VEVENT
BEGIN:VEVENT
DTSTART;VALUE=DATE:20240826
DTEND;VALUE=DATE:20240914
DTSTAMP:20260420T064735
CREATED:20240829T163140Z
LAST-MODIFIED:20240829T163150Z
UID:11624-1724630400-1726271999@moe.gov.tt
SUMMARY:❗ Registration For Caribbean Examinations Council (CXC) CSEC January 2025
DESCRIPTION:Registration For Caribbean Examinations Council (CXC) CSEC January 2025\n\n\n ONLINE REGISTRATION ONLY: Please read these instructions carefully.\n For all information on Examinations Registration\, Instructions and Fees visit: https://exams.moe.gov.tt/\n Registration Deadline: Friday 13th September\, 2024\n\n\n#Registration #CXC2025
URL:https://moe.gov.tt/event/%e2%9d%97-registration-for-caribbean-examinations-council-cxc-csec-january-2025/
END:VEVENT
BEGIN:VEVENT
DTSTART;VALUE=DATE:20240827
DTEND;VALUE=DATE:20240907
DTSTAMP:20260420T064735
CREATED:20240829T163339Z
LAST-MODIFIED:20240829T163400Z
UID:11626-1724716800-1725667199@moe.gov.tt
SUMMARY:📣 Part-Time Programme of Continuing Education and Training for Adults 2024-2025
DESCRIPTION:Applications are now open for students/adults to sign up for the Part-Time Programme of Continuing Education Classes 2024-2025.\n\n\nThis programme targets students/adults who would have attempted specific subjects at the Caribbean Secondary Education Certificate (CSEC) level and want to improve their grade(s).\n\n\nThe programme will be offered in two tiers:\n a one-year preparation programme for CSEC examinations in June 2025\n a two-year preparation programme for CSEC examinations in June 2026\n\n\n Application closing date: 6th September\, 2024\n\n\n Please see the following link for all information and the online application form >> moe.gov.tt/ptpce-2024-2025/
URL:https://moe.gov.tt/event/%f0%9f%93%a3-part-time-programme-of-continuing-education-and-training-for-adults-2024-2025/
END:VEVENT
END:VCALENDAR